BEGIN:VCALENDAR
VERSION:2.0
PRODID:Kendall County, IL Calendar Creator
METHOD:PUBLISH
BEGIN:VEVENT
DTSTAMP:20260417T151417
DTSTART:20260428T160000
DTEND:20260428T235900
SUMMARY:JJC Program/Resource Guide Committee
DESCRIPTION:<a href="https://kendallcountyilhealth.prod.govaccess.org/home/showpublisheddocument/35377" target="_blank" rel="noopener">4-28-26 JJC Program Resource Guide Committee Agenda</a>
X-ALT-DESC;FMTTYPE=text/html:<a href="https://kendallcountyilhealth.prod.govaccess.org/home/showpublisheddocument/35377" target="_blank" rel="noopener">4-28-26 JJC Program Resource Guide Committee Agenda</a>
LOCATION:County Courthouse\, 807 W John St\, Jury Assembly Room Yorkville\, Illinois 60560
CLASS:PUBLIC
END:VEVENT
END:VCALENDAR
