BEGIN:VCALENDAR
VERSION:2.0
PRODID:Kendall County, IL Calendar Creator
METHOD:PUBLISH
BEGIN:VEVENT
DTSTAMP:20241226T132547
DTSTART:20260504T160000
DTEND:20260504T235900
SUMMARY:Facilities Management and Technology
DESCRIPTION:<a href="https://www.co.kendall.il.us/Admin/Components/Calendar/Event/Edit/?navid=632">Agendas and Minutes</a>
X-ALT-DESC;FMTTYPE=text/html:<a href="https://www.co.kendall.il.us/Admin/Components/Calendar/Event/Edit/?navid=632">Agendas and Minutes</a>
LOCATION:Kendall County Historic Court House\, 110 West Madison Street\, 3rd Floor Court Room Yorkville\, Illinois 60560
CLASS:PUBLIC
END:VEVENT
END:VCALENDAR
